BEGIN:VCALENDAR
VERSION:2.0
PRODID:-//eventon.com NONSGML v1.0//EN
CALSCALE:GREGORIAN
METHOD:PUBLISH
BEGIN:VEVENT
UID:69e60e6141a90
DTSTAMP:20260420T113041Z
DTSTART:20260503T140000Z
DTEND:20260503T160000Z
LOCATION:
SUMMARY:Connecting with Your Higher Self (3rd & 10th May)
DESCRIPTION:\nhttps://sacredheartawakening.com/events/connecting-with-your-
 higher-self/
URL:https://sacredheartawakening.com/events/connecting-with-your-higher-self/
END:VEVENT
END:VCALENDAR