BEGIN:VCALENDAR
VERSION:2.0
PRODID:-//eventon.com NONSGML v1.0//EN
CALSCALE:GREGORIAN
METHOD:PUBLISH
BEGIN:VEVENT
UID:69e955174f5e6
DTSTAMP:20260422T230911Z
DTSTART:20260323T150000Z
DTEND:20260323T153300Z
LOCATION:https://us02web.zoom.us/j/3339669333
SUMMARY:Healing - Animal\,  Plant & Nature's Kingdoms
DESCRIPTION:\nhttps://sacredheartawakening.com/events/healing-animals-plant
 s-natures-kingdoms/var/event_access
URL:https://sacredheartawakening.com/events/healing-animals-plants-natures-kingdoms/var/event_access
END:VEVENT
END:VCALENDAR