BEGIN:VCALENDAR
VERSION:2.0
PRODID:-//eventon.com NONSGML v1.0//EN
CALSCALE:GREGORIAN
METHOD:PUBLISH
BEGIN:VEVENT
UID:69e93fb0033c0
DTSTAMP:20260422T213752Z
DTSTART:20250429T150000Z
DTEND:20250429T160000Z
LOCATION:https://us02web.zoom.us/j/3339669333
SUMMARY:Healing - Animal\,  Plant & Nature's Kingdoms
DESCRIPTION:\nhttps://sacredheartawakening.com/events/healing-animals-plant
 s-natures-kingdoms/var/event_access
URL:https://sacredheartawakening.com/events/healing-animals-plants-natures-kingdoms/var/event_access
END:VEVENT
END:VCALENDAR