BEGIN:VCALENDAR
VERSION:2.0
PRODID:-//eventon.com NONSGML v1.0//EN
CALSCALE:GREGORIAN
METHOD:PUBLISH
BEGIN:VEVENT
UID:69ea1818a506d
DTSTAMP:20260423T130112Z
DTSTART:20260615T150000Z
DTEND:20260615T153300Z
LOCATION:https://us02web.zoom.us/j/3339669333
SUMMARY:Healing - Anxiety and Stress
DESCRIPTION:\nhttps://sacredheartawakening.com/events/healing-anxiety-and-s
 tress/var/event_access
URL:https://sacredheartawakening.com/events/healing-anxiety-and-stress/var/event_access
END:VEVENT
END:VCALENDAR