BEGIN:VCALENDAR
VERSION:2.0
PRODID:-//eventon.com NONSGML v1.0//EN
CALSCALE:GREGORIAN
METHOD:PUBLISH
BEGIN:VEVENT
UID:69e93eefd72bb
DTSTAMP:20260422T213439Z
DTSTART:20250217T090000Z
DTEND:20250217T100000Z
LOCATION:https://us02web.zoom.us/j/3339669333
SUMMARY:Healing - Anxiety and Stress
DESCRIPTION:\nhttps://sacredheartawakening.com/events/healing-anxiety-and-s
 tress/var/event_access
URL:https://sacredheartawakening.com/events/healing-anxiety-and-stress/var/event_access
END:VEVENT
END:VCALENDAR