BEGIN:VCALENDAR
VERSION:2.0
PRODID:-//eventon.com NONSGML v1.0//EN
CALSCALE:GREGORIAN
METHOD:PUBLISH
BEGIN:VEVENT
UID:69e85f4de6a61
DTSTAMP:20260422T054029Z
DTSTART:20260519T090000Z
DTEND:20260519T093300Z
LOCATION:https://us02web.zoom.us/j/3339669333
SUMMARY:Healing - Embracing Self Love
DESCRIPTION:\nhttps://sacredheartawakening.com/events/healing-embracing-sel
 f-love/var/event_access
URL:https://sacredheartawakening.com/events/healing-embracing-self-love/var/event_access
END:VEVENT
END:VCALENDAR