BEGIN:VCALENDAR
VERSION:2.0
PRODID:-//eventon.com NONSGML v1.0//EN
CALSCALE:GREGORIAN
METHOD:PUBLISH
BEGIN:VEVENT
UID:69e8446745db7
DTSTAMP:20260422T034543Z
DTSTART:20260601T150000Z
DTEND:20260601T153300Z
LOCATION:https://us02web.zoom.us/j/3339669333
SUMMARY:Healing - Trauma Recovery
DESCRIPTION:Healing Trauma through Vibrational Energy\nhttps://sacredhearta
 wakening.com/events/healing-vaccine-injuries-and-trauma/var/event_access
URL:https://sacredheartawakening.com/events/healing-vaccine-injuries-and-trauma/var/event_access
END:VEVENT
END:VCALENDAR