BEGIN:VCALENDAR
VERSION:2.0
PRODID:-//eventon.com NONSGML v1.0//EN
CALSCALE:GREGORIAN
METHOD:PUBLISH
BEGIN:VEVENT
UID:69ea19348494f
DTSTAMP:20260423T130556Z
DTSTART:20260626T150000Z
DTEND:20260626T153300Z
LOCATION:https://us02web.zoom.us/j/3339669333
SUMMARY:Healing - Grief and Loss
DESCRIPTION:Healing Grief and Loss through Vibrational Energy\nhttps://sacr
 edheartawakening.com/events/healing-grief-and-loss/var/event_access
URL:https://sacredheartawakening.com/events/healing-grief-and-loss/var/event_access
END:VEVENT
END:VCALENDAR