BEGIN:VCALENDAR
VERSION:2.0
PRODID:-//eventon.com NONSGML v1.0//EN
CALSCALE:GREGORIAN
METHOD:PUBLISH
BEGIN:VEVENT
UID:69e9149d26645
DTSTAMP:20260422T183405Z
DTSTART:20260528T150000Z
DTEND:20260528T153300Z
LOCATION:https://us02web.zoom.us/j/3339669333
SUMMARY:Healing - Grief and Loss
DESCRIPTION:Healing Grief and Loss through Vibrational Energy\nhttps://sacr
 edheartawakening.com/events/healing-grief-and-loss/var/event_access
URL:https://sacredheartawakening.com/events/healing-grief-and-loss/var/event_access
END:VEVENT
END:VCALENDAR