BEGIN:VCALENDAR
VERSION:2.0
PRODID:-//eventon.com NONSGML v1.0//EN
CALSCALE:GREGORIAN
METHOD:PUBLISH
BEGIN:VEVENT
UID:69ea190a4b711
DTSTAMP:20260423T130514Z
DTSTART:20260518T090000Z
DTEND:20260518T093300Z
LOCATION:https://us02web.zoom.us/j/3339669333
SUMMARY:Healing - Pain and Muscle Tension
DESCRIPTION:Rediscover Healing through Vibrational Energy\nhttps://sacredhe
 artawakening.com/events/healing-pain-and-muscle-tension/var/event_access
URL:https://sacredheartawakening.com/events/healing-pain-and-muscle-tension/var/event_access
END:VEVENT
END:VCALENDAR