BEGIN:VCALENDAR
VERSION:2.0
PRODID:-//eventon.com NONSGML v1.0//EN
CALSCALE:GREGORIAN
METHOD:PUBLISH
BEGIN:VEVENT
UID:69e9408d56566
DTSTAMP:20260422T214133Z
DTSTART:20260409T090000Z
DTEND:20260409T093300Z
LOCATION:https://us02web.zoom.us/j/3339669333
SUMMARY:Healing - Pain and Muscle Tension
DESCRIPTION:Rediscover Healing through Vibrational Energy\nhttps://sacredhe
 artawakening.com/events/healing-pain-and-muscle-tension/var/event_access
URL:https://sacredheartawakening.com/events/healing-pain-and-muscle-tension/var/event_access
END:VEVENT
END:VCALENDAR