BEGIN:VCALENDAR
VERSION:2.0
PRODID:-//eventon.com NONSGML v1.0//EN
CALSCALE:GREGORIAN
METHOD:PUBLISH
BEGIN:VEVENT
UID:69e91580113a9
DTSTAMP:20260422T183752Z
DTSTART:20260602T090000Z
DTEND:20260602T213300Z
LOCATION:https://us02web.zoom.us/j/3339669333
SUMMARY:Healing - Chronic Illnesses
DESCRIPTION:\nhttps://sacredheartawakening.com/events/healing-chronic-illne
 sses/var/event_access
URL:https://sacredheartawakening.com/events/healing-chronic-illnesses/var/event_access
END:VEVENT
END:VCALENDAR