BEGIN:VCALENDAR
VERSION:2.0
PRODID:-//eventon.com NONSGML v1.0//EN
CALSCALE:GREGORIAN
METHOD:PUBLISH
BEGIN:VEVENT
UID:69e92c3009668
DTSTAMP:20260422T201440Z
DTSTART:20260529T150000Z
DTEND:20260529T153300Z
LOCATION:https://us02web.zoom.us/j/3339669333
SUMMARY:Healing - Self Worth and Worthiness
DESCRIPTION:\nhttps://sacredheartawakening.com/events/vibrational-healing-s
 elf-worth-and-worthiness/var/event_access
URL:https://sacredheartawakening.com/events/vibrational-healing-self-worth-and-worthiness/var/event_access
END:VEVENT
END:VCALENDAR