BEGIN:VCALENDAR
VERSION:2.0
PRODID:-//eventon.com NONSGML v1.0//EN
CALSCALE:GREGORIAN
METHOD:PUBLISH
BEGIN:VEVENT
UID:69ea181ec6834
DTSTAMP:20260423T130118Z
DTSTART:20260925T060000Z
DTEND:20260925T070000Z
LOCATION:https://us02web.zoom.us/j/3339669333
SUMMARY:Endocrine Rebalancing (Full Moon)
DESCRIPTION:\nhttps://sacredheartawakening.com/events/vibrational-healing-s
 ession-full-moon/var/event_access
URL:https://sacredheartawakening.com/events/vibrational-healing-session-full-moon/var/event_access
END:VEVENT
END:VCALENDAR