BEGIN:VCALENDAR
VERSION:2.0
PRODID:-//eventon.com NONSGML v1.0//EN
CALSCALE:GREGORIAN
METHOD:PUBLISH
BEGIN:VEVENT
UID:69e914ffac878
DTSTAMP:20260422T183543Z
DTSTART:20260729T060000Z
DTEND:20260729T070000Z
LOCATION:https://us02web.zoom.us/j/3339669333
SUMMARY:Endocrine Rebalancing (Full Moon)
DESCRIPTION:\nhttps://sacredheartawakening.com/events/vibrational-healing-s
 ession-full-moon/var/event_access
URL:https://sacredheartawakening.com/events/vibrational-healing-session-full-moon/var/event_access
END:VEVENT
END:VCALENDAR