BEGIN:VCALENDAR
VERSION:2.0
PRODID:-//eventon.com NONSGML v1.0//EN
CALSCALE:GREGORIAN
METHOD:PUBLISH
BEGIN:VEVENT
UID:69e914f43d3fe
DTSTAMP:20260422T183532Z
DTSTART:20260630T060000Z
DTEND:20260630T070000Z
LOCATION:https://us02web.zoom.us/j/3339669333
SUMMARY:Endocrine Rebalancing (Full Moon)
DESCRIPTION:\nhttps://sacredheartawakening.com/events/vibrational-healing-s
 ession-full-moon/var/event_access
URL:https://sacredheartawakening.com/events/vibrational-healing-session-full-moon/var/event_access
END:VEVENT
END:VCALENDAR