BEGIN:VCALENDAR
VERSION:2.0
PRODID:-//eventon.com NONSGML v1.0//EN
CALSCALE:GREGORIAN
METHOD:PUBLISH
BEGIN:VEVENT
UID:69e914b6836ec
DTSTAMP:20260422T183430Z
DTSTART:20260601T180000Z
DTEND:20260601T190000Z
LOCATION:https://us02web.zoom.us/j/3339669333
SUMMARY:Lightworkers Transmission (Full Moon)
DESCRIPTION:\nhttps://sacredheartawakening.com/events/lightworkers-vibratio
 nal-transmission-full-moon/var/event_access
URL:https://sacredheartawakening.com/events/lightworkers-vibrational-transmission-full-moon/var/event_access
END:VEVENT
END:VCALENDAR