BEGIN:VCALENDAR
VERSION:2.0
PRODID:-//eventon.com NONSGML v1.0//EN
CALSCALE:GREGORIAN
METHOD:PUBLISH
BEGIN:VEVENT
UID:69e914598e43d
DTSTAMP:20260422T183257Z
DTSTART:20260615T060000Z
DTEND:20260615T070000Z
LOCATION:https://us02web.zoom.us/j/3339669333
SUMMARY:Lightworkers Transmission (New Moon)
DESCRIPTION:\nhttps://sacredheartawakening.com/events/lightworkers-vibratio
 nal-transmission-new-moon/var/event_access
URL:https://sacredheartawakening.com/events/lightworkers-vibrational-transmission-new-moon/var/event_access
END:VEVENT
END:VCALENDAR